BEGIN:VCALENDAR
VERSION:2.0
PRODID:-//PYVOBJECT//NONSGML Version 1//EN
BEGIN:VEVENT
UID:27392:6603
DTSTART:20190401T000000
DTEND:20190430T000000
DESCRIPTION:Fr&uuml\;hlingskreationen mit frischem Spargel\, B&auml\;rlauch
  und leichten Salatvariationen
DTSTAMP:20260426T005056Z
SUMMARY:Ab April:  Jetzt wird’s Frühling“ 
END:VEVENT
END:VCALENDAR
